BEGIN:VCALENDAR
VERSION:2.0
PRODID:-//Smitty&#039;s Nursery &amp; Landscape - ECPv6.0.7.1//NONSGML v1.0//EN
CALSCALE:GREGORIAN
METHOD:PUBLISH
X-ORIGINAL-URL:https://www.smittyscapes.com
X-WR-CALDESC:Events for Smitty&#039;s Nursery &amp; Landscape
REFRESH-INTERVAL;VALUE=DURATION:PT1H
X-Robots-Tag:noindex
X-PUBLISHED-TTL:PT1H
BEGIN:VTIMEZONE
TZID:UTC
BEGIN:STANDARD
TZOFFSETFROM:+0000
TZOFFSETTO:+0000
TZNAME:UTC
DTSTART:20190101T000000
END:STANDARD
END:VTIMEZONE
BEGIN:VEVENT
DTSTART;VALUE=DATE:20190901
DTEND;VALUE=DATE:20190902
DTSTAMP:20260423T113511
CREATED:20170825T232445Z
LAST-MODIFIED:20190220T175059Z
UID:14350-1567296000-1567382399@www.smittyscapes.com
SUMMARY:Planting Tips
DESCRIPTION:Description\n\n	\n	\n	\n\n\n	\n		\n	Stop by the Regenstein Fruit & Vegetable Garden to pot up this month's featured plant seedling to grow at home (while supplies last). \nVolunteers in the Regenstein Fruit & Vegetable Garden share information about each month's featured plant and encourage visitors to plant seeds or seedlings (while supplies last) to take home to their own gardens. A flier with care information and a recipe is available. \n\n	\n\n\n\n			\n	\n	\n		\n	\nUnderstand cash flow and its role in the credit risk assessment process\nInterpret the impact of primary cash drivers\nPrepare projections to assess future cash flow quality\n\n\n	\n\n\n\n			\n	\n	\n		\n	\nProject future cash flow\, debt service cover\, and credit needs\nIdentify potential liquidity problems before they become a threat\nAssess cash flow issues specific to international companies
URL:https://www.smittyscapes.com/classes/planting-tips/
LOCATION:Smitty’s Nursery & Landscape\, 4681 State Route 23\, Windham\, NY\, 12496\, United States
CATEGORIES:Garden Workshop
ATTACH;FMTTYPE=image/jpeg:https://www.smittyscapes.com/wp-content/uploads/2017/08/pexels-photo-1301856.jpeg
END:VEVENT
BEGIN:VEVENT
DTSTART;VALUE=DATE:20190810
DTEND;VALUE=DATE:20190811
DTSTAMP:20260423T113511
CREATED:20170825T223338Z
LAST-MODIFIED:20190220T173854Z
UID:14344-1565395200-1565481599@www.smittyscapes.com
SUMMARY:Patio How-To
DESCRIPTION:Description\n\n	\n	\n	\n\n\n	\n		\n	Stop by the Regenstein Fruit & Vegetable Garden to pot up this month's featured plant seedling to grow at home (while supplies last). \nVolunteers in the Regenstein Fruit & Vegetable Garden share information about each month's featured plant and encourage visitors to plant seeds or seedlings (while supplies last) to take home to their own gardens. A flier with care information and a recipe is available. \n\n	\n\n\n\n			\n	\n	\n		\n	\nUnderstand cash flow and its role in the credit risk assessment process\nInterpret the impact of primary cash drivers\nPrepare projections to assess future cash flow quality\n\n\n	\n\n\n\n			\n	\n	\n		\n	\nProject future cash flow\, debt service cover\, and credit needs\nIdentify potential liquidity problems before they become a threat\nAssess cash flow issues specific to international companies
URL:https://www.smittyscapes.com/classes/patio-how-to/
LOCATION:Smitty’s Nursery & Landscape\, 4681 State Route 23\, Windham\, NY\, 12496\, United States
CATEGORIES:Garden Workshop
ATTACH;FMTTYPE=image/jpeg:https://www.smittyscapes.com/wp-content/uploads/2017/08/patio.jpg
END:VEVENT
END:VCALENDAR